BEGIN:VCALENDAR
VERSION:2.0
PRODID:-//hacksw/handcal//NONSGML v1.0//EN
BEGIN:VEVENT
UID:875e08efa4ea822dfa31f141d8907ebd@theworldtheatre.org
DTSTAMP:20260425T022206Z
DTSTART:20260401T173000Z
DTEND:20260401T193000Z
SUMMARY:This is not Financial Advice
LOCATION:The World Theatre
END:VEVENT
END:VCALENDAR