BEGIN:VCALENDAR
VERSION:2.0
PRODID:-//hacksw/handcal//NONSGML v1.0//EN
BEGIN:VEVENT
UID:0cc95fa950dcaec46de71417c14c3cc1@theworldtheatre.org
DTSTAMP:20260424T045411Z
DTSTART:20200808T200000Z
DTEND:20200808T220000Z
SUMMARY:Stand by Me &#8211\; at The World Drive-In
LOCATION:The World Theatre
END:VEVENT
END:VCALENDAR