BEGIN:VCALENDAR
VERSION:2.0
PRODID:-//hacksw/handcal//NONSGML v1.0//EN
BEGIN:VEVENT
UID:bb61b16a2fee5c882fa741913b25d31c@theworldtheatre.org
DTSTAMP:20260426T000845Z
DTSTART:20190614T193000Z
DTEND:20190614T213000Z
SUMMARY:Hotel Mumbai
LOCATION:The World Theatre
END:VEVENT
END:VCALENDAR