BEGIN:VCALENDAR
VERSION:2.0
PRODID:-//hacksw/handcal//NONSGML v1.0//EN
BEGIN:VEVENT
UID:ad3679ded1da737049caa582ce23d40f@theworldtheatre.org
DTSTAMP:20260424T155812Z
DTSTART:20260118T140000Z
DTEND:20260118T160000Z
SUMMARY:Eternity
LOCATION:The World Theatre
END:VEVENT
END:VCALENDAR