BEGIN:VCALENDAR
VERSION:2.0
PRODID:-//hacksw/handcal//NONSGML v1.0//EN
BEGIN:VEVENT
UID:c41e9a3a92248c4ab221cf02fe5869af@theworldtheatre.org
DTSTAMP:20260424T160042Z
DTSTART:20260117T193000Z
DTEND:20260117T213000Z
SUMMARY:Eternity
LOCATION:The World Theatre
END:VEVENT
END:VCALENDAR