BEGIN:VCALENDAR
VERSION:2.0
PRODID:-//hacksw/handcal//NONSGML v1.0//EN
BEGIN:VEVENT
UID:e4ad609bc92a10f86ecfc095474f58d4@theworldtheatre.org
DTSTAMP:20260425T131245Z
DTSTART:20260602T190000Z
DTEND:20260602T210000Z
SUMMARY:A Beautiful Day in the Neighborhood
LOCATION:The World Theatre
END:VEVENT
END:VCALENDAR