BEGIN:VCALENDAR
VERSION:2.0
PRODID:-//hacksw/handcal//NONSGML v1.0//EN
BEGIN:VEVENT
UID:1dfa1f4563af01f4d9d6de64aa2c4808@theworldtheatre.org
DTSTAMP:20260424T155859Z
DTSTART:20251024T213000Z
DTEND:20251024T233000Z
SUMMARY:The Magic of Eric Eaton 18+
LOCATION:The World Theatre
END:VEVENT
END:VCALENDAR